BEGIN:VCALENDAR
PRODID:-//PUBBLE//agenda//NL
VERSION:2.0
METHOD:PUBLISH
BEGIN:VEVENT
DTSTART:20260430T190000Z
DTEND:20260429T230000Z
DTSTAMP:20260425T185055Z
UID:8f5c47ba-df01-4b80-938c-90c6958fa784
CREATED:20260425T185055Z
NAME:Plan B bij Vakantiepark De Kleine Belties detoren.net
X-WR-CALNAME:Plan B bij Vakantiepark De Kleine Belties
X-ALT-DESC;FMTTYPE=text/html:<a href='/agenda/2026/4/30/plan-b-bij-vakantiepark-de-kleine-belties-110523'>/agenda/2026/4/30/plan-b-bij-vakantiepark-de-kleine-belties-110523</a> || <p>Zin in een avondje gezelligheid en live muziek? Zet donderdag 30 april dan met een dikke cirkel in je agenda! De mannen van de bekende Hardenbergse band Plan B komen naar de Plaza van De Kleine Belties en dat wil je niet missen!</p><p>Plan B is in de regio een begrip en weet met hun enorme enthousiasme elk publiek mee te krijgen. Van stevige rockklassiekers tot de lekkerste meezingers; alles komt voorbij!</p><p>De Plaza vormt het perfecte decor voor dit feestje, waar gastvrijheid en plezier altijd vooropstaan.</p><p>Het begint om 21.00 uur en de toegang is voor iedereen helemaal gratis. Iedereen is van harte welkom om te komen genieten van live-muziek van eigen bodem en er samen een onvergetelijk feest van te maken.</p>
DESCRIPTION:<a href='/agenda/2026/4/30/plan-b-bij-vakantiepark-de-kleine-belties-110523'>/agenda/2026/4/30/plan-b-bij-vakantiepark-de-kleine-belties-110523</a> || <p>Zin in een avondje gezelligheid en live muziek? Zet donderdag 30 april dan met een dikke cirkel in je agenda! De mannen van de bekende Hardenbergse band Plan B komen naar de Plaza van De Kleine Belties en dat wil je niet missen!</p><p>Plan B is in de regio een begrip en weet met hun enorme enthousiasme elk publiek mee te krijgen. Van stevige rockklassiekers tot de lekkerste meezingers; alles komt voorbij!</p><p>De Plaza vormt het perfecte decor voor dit feestje, waar gastvrijheid en plezier altijd vooropstaan.</p><p>Het begint om 21.00 uur en de toegang is voor iedereen helemaal gratis. Iedereen is van harte welkom om te komen genieten van live-muziek van eigen bodem en er samen een onvergetelijk feest van te maken.</p>
LAST-MODIFIED:20260425T185055Z
LOCATION: Vakantiepark de Kleine Belties | Rheezerweg 79 Hardenberg
SEQUENCE:0
STATUS:CONFIRMED
SUMMARY:Plan B bij Vakantiepark De Kleine Belties
TRANSP:OPAQUE
END:VEVENT
END:VCALENDAR
