BEGIN:VCALENDAR
PRODID:-//PUBBLE//agenda//NL
VERSION:2.0
METHOD:PUBLISH
BEGIN:VEVENT
DTSTART:20260502T080000Z
DTEND:20260502T120000Z
DTSTAMP:20260425T184418Z
UID:39e44e13-8053-45c6-8f4c-09057dbbcc80
CREATED:20260425T184418Z
NAME:Doe mee aan de Zwembadspelen! detoren.net
X-WR-CALNAME:Doe mee aan de Zwembadspelen!
X-ALT-DESC;FMTTYPE=text/html:<a href='/agenda/2026/5/2/doe-mee-aan-de-zwembadspelen--110476'>/agenda/2026/5/2/doe-mee-aan-de-zwembadspelen--110476</a> || <p>Om het nieuwe zwemseizoen feestelijk te openen, slaan Zwembad Onder Ons en Jong Oranje De Krim hun handen in één tijdens de Zwembadspelen. Deze strijd in en om het water is voor jong en oud. Klauter over de stormbaan, leg een uitdagend parcours af en loop in een gigantische bal over het water. Voor de kleinsten is er een schuimparty. Basischoolkinderen zijn welkom vanaf 10:00 uur. Iedereen vanaf het voortgezet onderwijs, dus ook volwassenen, kunnen hun talenten laten zien om 12:00 uur. Zwemdiploma’s zijn verplicht voor het meedoen aan de Zwembadspelen. Geef je op door te mailen naar <a data-fr-linked="true" href="mailto:info@ovdekrim.nl">info@ovdekrim.nl</a>. Geef hierbij je leeftijd en naam door. Tot dan!</p>
DESCRIPTION:<a href='/agenda/2026/5/2/doe-mee-aan-de-zwembadspelen--110476'>/agenda/2026/5/2/doe-mee-aan-de-zwembadspelen--110476</a> || <p>Om het nieuwe zwemseizoen feestelijk te openen, slaan Zwembad Onder Ons en Jong Oranje De Krim hun handen in één tijdens de Zwembadspelen. Deze strijd in en om het water is voor jong en oud. Klauter over de stormbaan, leg een uitdagend parcours af en loop in een gigantische bal over het water. Voor de kleinsten is er een schuimparty. Basischoolkinderen zijn welkom vanaf 10:00 uur. Iedereen vanaf het voortgezet onderwijs, dus ook volwassenen, kunnen hun talenten laten zien om 12:00 uur. Zwemdiploma’s zijn verplicht voor het meedoen aan de Zwembadspelen. Geef je op door te mailen naar <a data-fr-linked="true" href="mailto:info@ovdekrim.nl">info@ovdekrim.nl</a>. Geef hierbij je leeftijd en naam door. Tot dan!</p>
LAST-MODIFIED:20260425T184418Z
LOCATION: Zwembad Onder Ons De Krim | Hoofdweg 71 De Krim
SEQUENCE:0
STATUS:CONFIRMED
SUMMARY:Doe mee aan de Zwembadspelen!
TRANSP:OPAQUE
END:VEVENT
END:VCALENDAR
