BEGIN:VCALENDAR
PRODID:-//PUBBLE//agenda//NL
VERSION:2.0
METHOD:PUBLISH
BEGIN:VEVENT
DTSTART:20260501T170000Z
DTEND:20260501T190000Z
DTSTAMP:20260425T184444Z
UID:b7cb3fa7-8af3-4b94-b378-c537108872d4
CREATED:20260425T184444Z
NAME:Extra verkoop dameskleding detoren.net
X-WR-CALNAME:Extra verkoop dameskleding
X-ALT-DESC;FMTTYPE=text/html:<a href='/agenda/2026/5/1/extra-verkoop-dameskleding-110406'>/agenda/2026/5/1/extra-verkoop-dameskleding-110406</a> || <p>We hebben ontzettend veel dameskleding binnengekregen. Daarom organiseren we een extra verkoopavond om ruimte te maken voor nieuwe items én om met de opbrengst noodzakelijke producten te kunnen kopen, zoals ondergoed en sokken waar bij onze cliënten veel vraag naar is. Iedereen is welkom om te komen shoppen Let op: er is deze avond ALLEEN dameskleding beschikbaar.</p>
DESCRIPTION:<a href='/agenda/2026/5/1/extra-verkoop-dameskleding-110406'>/agenda/2026/5/1/extra-verkoop-dameskleding-110406</a> || <p>We hebben ontzettend veel dameskleding binnengekregen. Daarom organiseren we een extra verkoopavond om ruimte te maken voor nieuwe items én om met de opbrengst noodzakelijke producten te kunnen kopen, zoals ondergoed en sokken waar bij onze cliënten veel vraag naar is. Iedereen is welkom om te komen shoppen Let op: er is deze avond ALLEEN dameskleding beschikbaar.</p>
LAST-MODIFIED:20260425T184444Z
LOCATION: MFC De Carrousel | Chevalleraustraat 16 Ommen
SEQUENCE:0
STATUS:CONFIRMED
SUMMARY:Extra verkoop dameskleding
TRANSP:OPAQUE
END:VEVENT
END:VCALENDAR
