BEGIN:VCALENDAR
PRODID:-//PUBBLE//agenda//NL
VERSION:2.0
METHOD:PUBLISH
BEGIN:VEVENT
DTSTART:20260422T170000Z
DTEND:20260422T190000Z
DTSTAMP:20260421T122440Z
UID:1b881884-1ea7-4bdb-bea8-bebf45ce4e32
CREATED:20260421T122440Z
NAME:Onderhoud zelf je tuingereedschap detoren.net
X-WR-CALNAME:Onderhoud zelf je tuingereedschap
X-ALT-DESC;FMTTYPE=text/html:<a href='/agenda/2026/4/22/onderhoud-zelf-je-tuingereedschap-110400'>/agenda/2026/4/22/onderhoud-zelf-je-tuingereedschap-110400</a> || <p>Wijha in Hardenberg verzorgt voor Groei &amp; Bloei een avond over onderhoud en aanschaf van tuingereedschap. Dat gebeurt op woensdag 22 april, van 19.00 tot 21.00 uur.</p><p>We kunnen leren hoe we een schop scherp maken, een snoeischaar slijpen en we krijgen een demonstratie van accugereedschap en dergelijke. Deelname is gratis.</p><p>De bezoekers krijgen deze avond 10 procent korting op hun eventuele aankoop. Locatie: Bruchterweg 110-112 in Hardenberg.</p><p>Aanmelden via aanmeldingsformulier: https://ommen.groei.nl&nbsp;</p>
DESCRIPTION:<a href='/agenda/2026/4/22/onderhoud-zelf-je-tuingereedschap-110400'>/agenda/2026/4/22/onderhoud-zelf-je-tuingereedschap-110400</a> || <p>Wijha in Hardenberg verzorgt voor Groei &amp; Bloei een avond over onderhoud en aanschaf van tuingereedschap. Dat gebeurt op woensdag 22 april, van 19.00 tot 21.00 uur.</p><p>We kunnen leren hoe we een schop scherp maken, een snoeischaar slijpen en we krijgen een demonstratie van accugereedschap en dergelijke. Deelname is gratis.</p><p>De bezoekers krijgen deze avond 10 procent korting op hun eventuele aankoop. Locatie: Bruchterweg 110-112 in Hardenberg.</p><p>Aanmelden via aanmeldingsformulier: https://ommen.groei.nl&nbsp;</p>
LAST-MODIFIED:20260421T122440Z
LOCATION: Wijha  | Bruchterweg  110 Hardenberg
SEQUENCE:0
STATUS:CONFIRMED
SUMMARY:Onderhoud zelf je tuingereedschap
TRANSP:OPAQUE
END:VEVENT
END:VCALENDAR
