BEGIN:VCALENDAR
PRODID:-//PUBBLE//agenda//NL
VERSION:2.0
METHOD:PUBLISH
BEGIN:VEVENT
DTSTART:20260530T190000Z
DTEND:20260530T210000Z
DTSTAMP:20260425T185055Z
UID:a502f433-2558-49e9-907a-51aac001e8e9
CREATED:20260425T185055Z
NAME:FLAVIUM - The Peter Green Deal detoren.net
X-WR-CALNAME:FLAVIUM - The Peter Green Deal
X-ALT-DESC;FMTTYPE=text/html:<a href='/agenda/2026/5/30/flavium-the-peter-green-deal-110357'>/agenda/2026/5/30/flavium-the-peter-green-deal-110357</a> || <p>Op zaterdag 30 mei staat Flavium in Gashouder Podium met ‘The Peter Green Deal’.&nbsp;</p><p>Tijdens dit bijzondere concert brengt de legendarische Nederlandse bluesband een eerbetoon aan Peter Green, oprichter van Fleetwood Mac en één van de grootste namen uit de bluesgeschiedenis.</p><p>Met klassiekers als ‘Oh Well’, ‘Albatross’ en ‘The Green Manalishi’ neemt Flavium het publiek mee naar de roots van de blues.&nbsp;</p><p>De band, al sinds 1969 een begrip in Nederland, staat bekend om haar authentieke sound en energieke live-optredens. Tijdens deze avond worden de mooiste nummers van Peter Green met passie en vakmanschap tot leven gebracht.</p><p>Een must voor liefhebbers van blues en livemuziek!&nbsp;</p><p>Meer info en kaartverkoop <a href="//www.gashouder-dedemsvaart.nl">www.gashouder-dedemsvaart.nl</a>.</p>
DESCRIPTION:<a href='/agenda/2026/5/30/flavium-the-peter-green-deal-110357'>/agenda/2026/5/30/flavium-the-peter-green-deal-110357</a> || <p>Op zaterdag 30 mei staat Flavium in Gashouder Podium met ‘The Peter Green Deal’.&nbsp;</p><p>Tijdens dit bijzondere concert brengt de legendarische Nederlandse bluesband een eerbetoon aan Peter Green, oprichter van Fleetwood Mac en één van de grootste namen uit de bluesgeschiedenis.</p><p>Met klassiekers als ‘Oh Well’, ‘Albatross’ en ‘The Green Manalishi’ neemt Flavium het publiek mee naar de roots van de blues.&nbsp;</p><p>De band, al sinds 1969 een begrip in Nederland, staat bekend om haar authentieke sound en energieke live-optredens. Tijdens deze avond worden de mooiste nummers van Peter Green met passie en vakmanschap tot leven gebracht.</p><p>Een must voor liefhebbers van blues en livemuziek!&nbsp;</p><p>Meer info en kaartverkoop <a href="//www.gashouder-dedemsvaart.nl">www.gashouder-dedemsvaart.nl</a>.</p>
LAST-MODIFIED:20260425T185055Z
LOCATION: Gashouder Podium | Oude Zuidwolderstraat 13 Dedemsvaart
SEQUENCE:0
STATUS:CONFIRMED
SUMMARY:FLAVIUM - The Peter Green Deal
TRANSP:OPAQUE
END:VEVENT
END:VCALENDAR
