BEGIN:VCALENDAR
PRODID:-//PUBBLE//agenda//NL
VERSION:2.0
METHOD:PUBLISH
BEGIN:VEVENT
DTSTART:20261128T183000Z
DTEND:20261128T013000Z
DTSTAMP:20260425T201809Z
UID:ff1b3e6d-9d4e-4230-9c08-c07d5fe2eb76
CREATED:20260425T201809Z
NAME:Pump up - Hardenberg detoren.net
X-WR-CALNAME:Pump up - Hardenberg
X-ALT-DESC;FMTTYPE=text/html:<a href='/agenda/2026/11/28/pump-up-hardenberg-110322'>/agenda/2026/11/28/pump-up-hardenberg-110322</a> || <p>Op <strong>zaterdag 28 november 2026</strong> organiseert Evenementenhal Hardenberg de eerste editie van <strong>Pump up</strong>.&nbsp;</p><p>Van 20:30 tot 02:30 verandert de hal in een groot indoorfestival met drie verschillende stages. Tijdens Pump up geniet je van drie unieke stages, elk met een eigen sfeer en muziekstijl: de Power Stage voor de (happy) hardcore liefhebbers, de Live Stage met een live band en de Pils &amp; Party Stage, een knus podium waar de derde helft nooit stopt.&nbsp;</p><p><strong>De line-up bestaat onder meer uit:</strong></p><p>Outsiders, Stuk, 2 Brothers on the 4th Floor, Darkraver, Don Cartel, DJ Benn, Sing the 00’s, Fons Veurink en DJ Hans Aink.&nbsp;</p><p><strong>Tickets zijn nu verkrijgbaar voor €20.</strong> Dit voordelige tarief is tijdelijk, daarna geldt de reguliere prijs van €28,50. Wees er dus op tijd bij. </p>
DESCRIPTION:<a href='/agenda/2026/11/28/pump-up-hardenberg-110322'>/agenda/2026/11/28/pump-up-hardenberg-110322</a> || <p>Op <strong>zaterdag 28 november 2026</strong> organiseert Evenementenhal Hardenberg de eerste editie van <strong>Pump up</strong>.&nbsp;</p><p>Van 20:30 tot 02:30 verandert de hal in een groot indoorfestival met drie verschillende stages. Tijdens Pump up geniet je van drie unieke stages, elk met een eigen sfeer en muziekstijl: de Power Stage voor de (happy) hardcore liefhebbers, de Live Stage met een live band en de Pils &amp; Party Stage, een knus podium waar de derde helft nooit stopt.&nbsp;</p><p><strong>De line-up bestaat onder meer uit:</strong></p><p>Outsiders, Stuk, 2 Brothers on the 4th Floor, Darkraver, Don Cartel, DJ Benn, Sing the 00’s, Fons Veurink en DJ Hans Aink.&nbsp;</p><p><strong>Tickets zijn nu verkrijgbaar voor €20.</strong> Dit voordelige tarief is tijdelijk, daarna geldt de reguliere prijs van €28,50. Wees er dus op tijd bij. </p>
LAST-MODIFIED:20260425T201809Z
LOCATION: Evenementenhal | Energieweg 2 2 Hardenberg
SEQUENCE:0
STATUS:CONFIRMED
SUMMARY:Pump up - Hardenberg
TRANSP:OPAQUE
END:VEVENT
END:VCALENDAR
