BEGIN:VCALENDAR
PRODID:-//PUBBLE//agenda//NL
VERSION:2.0
METHOD:PUBLISH
BEGIN:VEVENT
DTSTART:20260503T192400Z
DTEND:20260705T192400Z
DTSTAMP:20260425T184429Z
UID:973c9ea7-5ead-4cf4-8911-be4972c7e60f
CREATED:20260425T184429Z
NAME:Ommerschans belicht detoren.net
X-WR-CALNAME:Ommerschans belicht
X-ALT-DESC;FMTTYPE=text/html:<a href='/agenda/2026/5/3/ommerschans-belicht-110273'>/agenda/2026/5/3/ommerschans-belicht-110273</a> || <p>Ommerschans, gezien door de ogen van de schilder en de fotograaf</p><p>Trix Rens</p><p>Na een aantal jaren keramiste te zijn geweest heeft Trix Rens de keuze gemaakt om te gaan schilderen. Haar handen willen graag ontdekken en creatief bezig zijn.</p><p>Ommerschans is voor Trix Rens een mooie plek waar ze aan gehecht is geraakt en al heel lang woonachtig is. Zij ging op zoek naar de geschiedenis van Ommerschans en de verhalen. Zo heeft ze haar eigen creativiteit op dit thema de laatste twee jaar er op los gelaten.&nbsp;</p><p>De Reestkiekers</p><p>De fotoclub De Reestkiekers is onstaan vanuit de Natuurwerkgroep De Reest, een natuurvereniging die zich inzet voor het behoud en de beleving van natuur en landschap in het Reestdal.</p>
DESCRIPTION:<a href='/agenda/2026/5/3/ommerschans-belicht-110273'>/agenda/2026/5/3/ommerschans-belicht-110273</a> || <p>Ommerschans, gezien door de ogen van de schilder en de fotograaf</p><p>Trix Rens</p><p>Na een aantal jaren keramiste te zijn geweest heeft Trix Rens de keuze gemaakt om te gaan schilderen. Haar handen willen graag ontdekken en creatief bezig zijn.</p><p>Ommerschans is voor Trix Rens een mooie plek waar ze aan gehecht is geraakt en al heel lang woonachtig is. Zij ging op zoek naar de geschiedenis van Ommerschans en de verhalen. Zo heeft ze haar eigen creativiteit op dit thema de laatste twee jaar er op los gelaten.&nbsp;</p><p>De Reestkiekers</p><p>De fotoclub De Reestkiekers is onstaan vanuit de Natuurwerkgroep De Reest, een natuurvereniging die zich inzet voor het behoud en de beleving van natuur en landschap in het Reestdal.</p>
LAST-MODIFIED:20260425T184429Z
LOCATION: De Reestkamer | Oud Avereest 5 Balkbrug
SEQUENCE:0
STATUS:CONFIRMED
SUMMARY:Ommerschans belicht
TRANSP:OPAQUE
END:VEVENT
END:VCALENDAR
