BEGIN:VCALENDAR
PRODID:-//PUBBLE//agenda//NL
VERSION:2.0
METHOD:PUBLISH
BEGIN:VEVENT
DTSTART:20260419T130000Z
DTEND:20260419T150000Z
DTSTAMP:20260424T150631Z
UID:e32232ee-47e6-4aee-9db3-56f10884b9ec
CREATED:20260424T150631Z
NAME:Jazzclub Hardenberg presenteert: Sebastiaan Visser detoren.net
X-WR-CALNAME:Jazzclub Hardenberg presenteert: Sebastiaan Visser
X-ALT-DESC;FMTTYPE=text/html:<a href='/agenda/2026/4/19/jazzclub-hardenberg-presenteert-sebastiaan-visser-110217'>/agenda/2026/4/19/jazzclub-hardenberg-presenteert-sebastiaan-visser-110217</a> || <p>Jazzclub Hardenberg presenteert op zondagmiddag 19 april 2026 een energiek en sfeervol concert van gitarist Sebastiaan Visser in de foyer van Theater De Voorveghter. Visser beweegt zich moeiteloos tussen eigentijdse jazz en fusion, met melodieuze composities, krachtige grooves en ruimte voor subtiliteit. Samen met zijn vaste band – Christopher Verweij (drums), Deborah Slijkhuis (bas) en Igor Herstel (toetsen) – brengt hij muziek vol energie, lyriek en hoorbare onderlinge chemie. Een concert voor zowel de doorgewinterde jazzliefhebber als de nieuwsgierige luisteraar.</p><p>Zondag 19 april | 15.00–17.00 uur | Entree €10 incl. koffie/thee.</p>
DESCRIPTION:<a href='/agenda/2026/4/19/jazzclub-hardenberg-presenteert-sebastiaan-visser-110217'>/agenda/2026/4/19/jazzclub-hardenberg-presenteert-sebastiaan-visser-110217</a> || <p>Jazzclub Hardenberg presenteert op zondagmiddag 19 april 2026 een energiek en sfeervol concert van gitarist Sebastiaan Visser in de foyer van Theater De Voorveghter. Visser beweegt zich moeiteloos tussen eigentijdse jazz en fusion, met melodieuze composities, krachtige grooves en ruimte voor subtiliteit. Samen met zijn vaste band – Christopher Verweij (drums), Deborah Slijkhuis (bas) en Igor Herstel (toetsen) – brengt hij muziek vol energie, lyriek en hoorbare onderlinge chemie. Een concert voor zowel de doorgewinterde jazzliefhebber als de nieuwsgierige luisteraar.</p><p>Zondag 19 april | 15.00–17.00 uur | Entree €10 incl. koffie/thee.</p>
LAST-MODIFIED:20260424T150631Z
LOCATION: Theater De Voorveghter | Badhuisplein 3 Hardenberg
SEQUENCE:0
STATUS:CONFIRMED
SUMMARY:Jazzclub Hardenberg presenteert: Sebastiaan Visser
TRANSP:OPAQUE
END:VEVENT
END:VCALENDAR
