BEGIN:VCALENDAR
PRODID:-//PUBBLE//agenda//NL
VERSION:2.0
METHOD:PUBLISH
BEGIN:VEVENT
DTSTART:20260711T130000Z
DTEND:20260711T233000Z
DTSTAMP:20260425T220747Z
UID:6ff33a4a-85b0-4410-9600-d87f6fc8a76a
CREATED:20260425T220747Z
NAME:De 35ste editie van het Bouwvakfeest Oud-Lutten wordt groots gevierd detoren.net
X-WR-CALNAME:De 35ste editie van het Bouwvakfeest Oud-Lutten wordt groots gevierd
X-ALT-DESC;FMTTYPE=text/html:<a href='/agenda/2026/7/11/de-35ste-editie-van-het-bouwvakfeest-oud-lutten-wordt-groots-gevierd-109233'>/agenda/2026/7/11/de-35ste-editie-van-het-bouwvakfeest-oud-lutten-wordt-groots-gevierd-109233</a> || <p>Op zaterdag 11 juli zal het 35ste Bouwvakfeest Oud-Lutten groots gevierd gaan worden met een hele mooie line-up van bands en artiesten.</p><p>De vrienden zijn bezig om de zaterdag als festival in te richten. Het festivalterrein zal dan ook al om 15.00 uur open gaan en om 16.00 uur zal de eerste band optreden.</p><p>De volgende artiesten zijn geboekt:</p><p>Tennessee Aces<br />Ol’Deezer<br />Johnny Again<br />The Spaltenbridge band<br />Jorieke Sterken<br />The Green Monkeys<br />Brucified - a tribute to Bruce Springsteen<br />Alle Kleuren - K3 tributeSTEAM SISTER</p><p>Kortom, dat ziet er veelbelovend uit.</p><p>De verkoop van online tickets is begonnen op onze website. Een e-ticket kost 20 euro.<br />Eind mei zullen er nog tickets in de voorverkoop gaan bij de voorverkoopadressen. Deze kosten 15 euro.</p><p>Check onze site.</p>
DESCRIPTION:<a href='/agenda/2026/7/11/de-35ste-editie-van-het-bouwvakfeest-oud-lutten-wordt-groots-gevierd-109233'>/agenda/2026/7/11/de-35ste-editie-van-het-bouwvakfeest-oud-lutten-wordt-groots-gevierd-109233</a> || <p>Op zaterdag 11 juli zal het 35ste Bouwvakfeest Oud-Lutten groots gevierd gaan worden met een hele mooie line-up van bands en artiesten.</p><p>De vrienden zijn bezig om de zaterdag als festival in te richten. Het festivalterrein zal dan ook al om 15.00 uur open gaan en om 16.00 uur zal de eerste band optreden.</p><p>De volgende artiesten zijn geboekt:</p><p>Tennessee Aces<br />Ol’Deezer<br />Johnny Again<br />The Spaltenbridge band<br />Jorieke Sterken<br />The Green Monkeys<br />Brucified - a tribute to Bruce Springsteen<br />Alle Kleuren - K3 tributeSTEAM SISTER</p><p>Kortom, dat ziet er veelbelovend uit.</p><p>De verkoop van online tickets is begonnen op onze website. Een e-ticket kost 20 euro.<br />Eind mei zullen er nog tickets in de voorverkoop gaan bij de voorverkoopadressen. Deze kosten 15 euro.</p><p>Check onze site.</p>
LAST-MODIFIED:20260425T220747Z
LOCATION: Feesttent Oud-Lutten | bruinekuilenweg   Oud-Lutten
SEQUENCE:0
STATUS:CONFIRMED
SUMMARY:De 35ste editie van het Bouwvakfeest Oud-Lutten wordt groots gevierd
TRANSP:OPAQUE
END:VEVENT
END:VCALENDAR
