BEGIN:VCALENDAR
PRODID:-//PUBBLE//agenda//NL
VERSION:2.0
METHOD:PUBLISH
BEGIN:VEVENT
DTSTART:20260427T080000Z
DTEND:20260427T113000Z
DTSTAMP:20260425T142130Z
UID:c9f6042b-1a3a-4ea9-a926-e301e0ad8dce
CREATED:20260425T142130Z
NAME:Koningsdag vieren in Gramsbergen detoren.net
X-WR-CALNAME:Koningsdag vieren in Gramsbergen
X-ALT-DESC;FMTTYPE=text/html:<a href='/agenda/2026/4/27/koningsdag-vieren-in-gramsbergen-109222'>/agenda/2026/4/27/koningsdag-vieren-in-gramsbergen-109222</a> || <p>Op maandag 27 april vieren we samen Koningsdag in Gramsbergen. Ook dit jaar heeft de Oranjevereniging Gramsbergen e.o. een programma samengesteld met leuke activiteiten voor jong en oud.</p><p>De dag begint traditiegetrouw met het hijsen van de vlag vanuit de Boomhofkerk.</p><p>10.00 uur – Wilhelmus-aubade bij zorgcentrum ’t Welgelegen, verzorgd door harmonie Crescendo-KNA.</p><p>10.30 – 12.30 uur – Mini-vrijmarkt en volop gezellige activiteiten en spelletjes in het centrum voor onze jonge feestvierders.&nbsp;</p><p>13.00 – 13.30 uur – Inschrijving voor de fietstocht door de prachtige omgeving van Gramsbergen en omstreken. Inschrijven kan bij bierbrouwerij Mommeriete.&nbsp;</p><p>Samen maken we er een feestelijke Koningsdag van!</p><p><em>Alle activiteiten zijn gratis toegankelijk </em>.&nbsp;&nbsp;</p>
DESCRIPTION:<a href='/agenda/2026/4/27/koningsdag-vieren-in-gramsbergen-109222'>/agenda/2026/4/27/koningsdag-vieren-in-gramsbergen-109222</a> || <p>Op maandag 27 april vieren we samen Koningsdag in Gramsbergen. Ook dit jaar heeft de Oranjevereniging Gramsbergen e.o. een programma samengesteld met leuke activiteiten voor jong en oud.</p><p>De dag begint traditiegetrouw met het hijsen van de vlag vanuit de Boomhofkerk.</p><p>10.00 uur – Wilhelmus-aubade bij zorgcentrum ’t Welgelegen, verzorgd door harmonie Crescendo-KNA.</p><p>10.30 – 12.30 uur – Mini-vrijmarkt en volop gezellige activiteiten en spelletjes in het centrum voor onze jonge feestvierders.&nbsp;</p><p>13.00 – 13.30 uur – Inschrijving voor de fietstocht door de prachtige omgeving van Gramsbergen en omstreken. Inschrijven kan bij bierbrouwerij Mommeriete.&nbsp;</p><p>Samen maken we er een feestelijke Koningsdag van!</p><p><em>Alle activiteiten zijn gratis toegankelijk </em>.&nbsp;&nbsp;</p>
LAST-MODIFIED:20260425T142130Z
LOCATION: Centrum Gramsbergen | Stationsstraat 9 9 Gramsbergen
SEQUENCE:0
STATUS:CONFIRMED
SUMMARY:Koningsdag vieren in Gramsbergen
TRANSP:OPAQUE
END:VEVENT
END:VCALENDAR
