BEGIN:VCALENDAR
PRODID:-//PUBBLE//agenda//NL
VERSION:2.0
METHOD:PUBLISH
BEGIN:VEVENT
DTSTART:20260502T080000Z
DTEND:20260502T100000Z
DTSTAMP:20260425T185335Z
UID:296ca1a7-2153-40a6-a3b1-6733c010418c
CREATED:20260425T185335Z
NAME:Bijenontmoetingsdag detoren.net
X-WR-CALNAME:Bijenontmoetingsdag
X-ALT-DESC;FMTTYPE=text/html:<a href='/agenda/2026/5/2/bijenontmoetingsdag-108967'>/agenda/2026/5/2/bijenontmoetingsdag-108967</a> || <p>De Imkervereniging Hardenberg e.o. organiseert maandelijkse Bijenontmoetingsdagen in de bijenstal “De Koppelbij”, bij Natuuractiviteitencentrum De Koppel. Iedereen die belangstelling heeft voor bijen, er iets over wil vertellen of vragen is van harte welkom. Je kunt er niet alleen bijen ontmoeten maar natuurlijk ook imkers, en zij kunnen al je vragen beantwoorden over de bijen, wat een imker doet en hoe je dat kunt worden. En als alles goed gaat kun je er ook honing proeven en kopen. De toegang is gratis.</p>
DESCRIPTION:<a href='/agenda/2026/5/2/bijenontmoetingsdag-108967'>/agenda/2026/5/2/bijenontmoetingsdag-108967</a> || <p>De Imkervereniging Hardenberg e.o. organiseert maandelijkse Bijenontmoetingsdagen in de bijenstal “De Koppelbij”, bij Natuuractiviteitencentrum De Koppel. Iedereen die belangstelling heeft voor bijen, er iets over wil vertellen of vragen is van harte welkom. Je kunt er niet alleen bijen ontmoeten maar natuurlijk ook imkers, en zij kunnen al je vragen beantwoorden over de bijen, wat een imker doet en hoe je dat kunt worden. En als alles goed gaat kun je er ook honing proeven en kopen. De toegang is gratis.</p>
LAST-MODIFIED:20260425T185335Z
LOCATION: Natuuractiviteitencentrum De Koppel | Vechtstraat 8 8 Hardenberg
SEQUENCE:0
STATUS:CONFIRMED
SUMMARY:Bijenontmoetingsdag
TRANSP:OPAQUE
END:VEVENT
END:VCALENDAR
