BEGIN:VCALENDAR
PRODID:-//PUBBLE//agenda//NL
VERSION:2.0
METHOD:PUBLISH
BEGIN:VEVENT
DTSTART:20260920T113000Z
DTEND:20260920T150000Z
DTSTAMP:20260425T202050Z
UID:bf3f59aa-3169-4ce1-87c2-cfe3a72ccd6c
CREATED:20260425T202050Z
NAME:Diner in Tuinen van Mien Ruys in samenwerking met Proefkamer ‘Het Reestdal’ detoren.net
X-WR-CALNAME:Diner in Tuinen van Mien Ruys in samenwerking met Proefkamer ‘Het Reestdal’
X-ALT-DESC;FMTTYPE=text/html:<a href='/agenda/2026/9/20/diner-in-tuinen-van-mien-ruys-in-samenwerking-met-proefkamer-het-reestdal-108720'>/agenda/2026/9/20/diner-in-tuinen-van-mien-ruys-in-samenwerking-met-proefkamer-het-reestdal-108720</a> || <p>Een Rondleiding door de Tuinen o.l.v. een gids terwijl u ondertijd kunt genieten van een culinair 5 gangen diner. Programma deze middag: 13.30 uur start Boerenschuur met een mocktail van wildpluk met amuses -Start wandeling door de Tuinen -14.30 uur start diner (3 gerechtjes) -Vervolg wandeling door de Tuinen -16.00 uur vervolg diner Boerenschuur (hoofdgerecht en dessert). -Afsluiting koffie en thee (verzorgd door de tuinen). Kortom een geweldige middag uit op een fantastische locatie. Voor meer info een aanmelden: www.tuinenmienruys.nl</p><p>Aantal deelnemers: minimaal 16, maximaal 24.</p>
DESCRIPTION:<a href='/agenda/2026/9/20/diner-in-tuinen-van-mien-ruys-in-samenwerking-met-proefkamer-het-reestdal-108720'>/agenda/2026/9/20/diner-in-tuinen-van-mien-ruys-in-samenwerking-met-proefkamer-het-reestdal-108720</a> || <p>Een Rondleiding door de Tuinen o.l.v. een gids terwijl u ondertijd kunt genieten van een culinair 5 gangen diner. Programma deze middag: 13.30 uur start Boerenschuur met een mocktail van wildpluk met amuses -Start wandeling door de Tuinen -14.30 uur start diner (3 gerechtjes) -Vervolg wandeling door de Tuinen -16.00 uur vervolg diner Boerenschuur (hoofdgerecht en dessert). -Afsluiting koffie en thee (verzorgd door de tuinen). Kortom een geweldige middag uit op een fantastische locatie. Voor meer info een aanmelden: www.tuinenmienruys.nl</p><p>Aantal deelnemers: minimaal 16, maximaal 24.</p>
LAST-MODIFIED:20260425T202050Z
LOCATION: Tuinen Mien Ruys | Moerheimstraat 84 Dedemsvaart
SEQUENCE:0
STATUS:CONFIRMED
SUMMARY:Diner in Tuinen van Mien Ruys in samenwerking met Proefkamer ‘Het Reestdal’
TRANSP:OPAQUE
END:VEVENT
END:VCALENDAR
