BEGIN:VCALENDAR
PRODID:-//PUBBLE//agenda//NL
VERSION:2.0
METHOD:PUBLISH
BEGIN:VEVENT
DTSTART:20260614T113000Z
DTEND:20260614T150000Z
DTSTAMP:20260425T190245Z
UID:12407836-a460-47f8-a5e3-4d9852cdaf20
CREATED:20260425T190245Z
NAME:Diner in Tuinen van Mien Ruys in samenwerking met Proefkamer ‘Het Reestdal’ detoren.net
X-WR-CALNAME:Diner in Tuinen van Mien Ruys in samenwerking met Proefkamer ‘Het Reestdal’
X-ALT-DESC;FMTTYPE=text/html:<a href='/agenda/2026/6/14/diner-in-tuinen-van-mien-ruys-in-samenwerking-met-proefkamer-het-reestdal-108718'>/agenda/2026/6/14/diner-in-tuinen-van-mien-ruys-in-samenwerking-met-proefkamer-het-reestdal-108718</a> || <p>Een Rondleiding door de Tuinen o.l.v. een gids terwijl u ondertijd kunt genieten van een culinair 5 gangen diner. Programma deze middag: 13.30 uur start Boerenschuur met een mocktail van wildpluk met amuses -Start wandeling door de Tuinen -14.30 uur start diner (3 gerechtjes) -Vervolg wandeling door de Tuinen -16.00 uur vervolg diner Boerenschuur (hoofdgerecht en dessert). -Afsluiting koffie en thee (verzorgd door de tuinen). Kortom een geweldige middag uit op een fantastische locatie. Voor meer info een aanmelden: <a href="//www.tuinenmienruys.nl">www.tuinenmienruys.nl</a></p><p>Aantal deelnemers: minimaal 16, maximaal 24.</p>
DESCRIPTION:<a href='/agenda/2026/6/14/diner-in-tuinen-van-mien-ruys-in-samenwerking-met-proefkamer-het-reestdal-108718'>/agenda/2026/6/14/diner-in-tuinen-van-mien-ruys-in-samenwerking-met-proefkamer-het-reestdal-108718</a> || <p>Een Rondleiding door de Tuinen o.l.v. een gids terwijl u ondertijd kunt genieten van een culinair 5 gangen diner. Programma deze middag: 13.30 uur start Boerenschuur met een mocktail van wildpluk met amuses -Start wandeling door de Tuinen -14.30 uur start diner (3 gerechtjes) -Vervolg wandeling door de Tuinen -16.00 uur vervolg diner Boerenschuur (hoofdgerecht en dessert). -Afsluiting koffie en thee (verzorgd door de tuinen). Kortom een geweldige middag uit op een fantastische locatie. Voor meer info een aanmelden: <a href="//www.tuinenmienruys.nl">www.tuinenmienruys.nl</a></p><p>Aantal deelnemers: minimaal 16, maximaal 24.</p>
LAST-MODIFIED:20260425T190245Z
LOCATION: Tuinen Mien Ruys | Moerheimstraat 84 Dedemsvaart
SEQUENCE:0
STATUS:CONFIRMED
SUMMARY:Diner in Tuinen van Mien Ruys in samenwerking met Proefkamer ‘Het Reestdal’
TRANSP:OPAQUE
END:VEVENT
END:VCALENDAR
