BEGIN:VCALENDAR
PRODID:-//PUBBLE//agenda//NL
VERSION:2.0
METHOD:PUBLISH
BEGIN:VEVENT
DTSTART:20260301T194000Z
DTEND:20260426T194000Z
DTSTAMP:20260425T201923Z
UID:85c7bb4d-c813-4342-a3a7-a65894cb8038
CREATED:20260425T201923Z
NAME:Expositie Vruchtbare grond met werken van Doet Boersma detoren.net
X-WR-CALNAME:Expositie Vruchtbare grond met werken van Doet Boersma
X-ALT-DESC;FMTTYPE=text/html:<a href='/agenda/2026/3/1/expositie-vruchtbare-grond-met-werken-van-doet-boersma-108674'>/agenda/2026/3/1/expositie-vruchtbare-grond-met-werken-van-doet-boersma-108674</a> || <p>De vruchtbare aarde als levend organisme</p><p>Van 1 maart tot en met 26 april 2026 toont De Reestkamer een nieuwe solotentoonstelling van kunstenaar Doet Boersma, waarin zij de natuurlijke processen van de aarde verbeeldt.&nbsp;</p><p>Het Friese landschap vormt voor Doet Boersma (1958) een onuitputtelijke bron van inspiratie.&nbsp;</p><p>Doet Boersma schildert voornamelijk het Friese landschap, expressief, op groot formaat en in vaak felle kleuren. Altijd op zoek naar de verste horizon, nieuwe composities en kleurstellingen. Momenteel gaat haar werk en onderzoek meer over de planten in het landschap en leven in en op de bodem: Vruchtbare grond.</p>
DESCRIPTION:<a href='/agenda/2026/3/1/expositie-vruchtbare-grond-met-werken-van-doet-boersma-108674'>/agenda/2026/3/1/expositie-vruchtbare-grond-met-werken-van-doet-boersma-108674</a> || <p>De vruchtbare aarde als levend organisme</p><p>Van 1 maart tot en met 26 april 2026 toont De Reestkamer een nieuwe solotentoonstelling van kunstenaar Doet Boersma, waarin zij de natuurlijke processen van de aarde verbeeldt.&nbsp;</p><p>Het Friese landschap vormt voor Doet Boersma (1958) een onuitputtelijke bron van inspiratie.&nbsp;</p><p>Doet Boersma schildert voornamelijk het Friese landschap, expressief, op groot formaat en in vaak felle kleuren. Altijd op zoek naar de verste horizon, nieuwe composities en kleurstellingen. Momenteel gaat haar werk en onderzoek meer over de planten in het landschap en leven in en op de bodem: Vruchtbare grond.</p>
LAST-MODIFIED:20260425T201923Z
LOCATION: De Reestkamer | Oud Avereest 5 Balkbrug
SEQUENCE:0
STATUS:CONFIRMED
SUMMARY:Expositie Vruchtbare grond met werken van Doet Boersma
TRANSP:OPAQUE
END:VEVENT
END:VCALENDAR
