BEGIN:VCALENDAR
PRODID:-//PUBBLE//agenda//NL
VERSION:2.0
METHOD:PUBLISH
BEGIN:VEVENT
DTSTART:20260926T080000Z
DTEND:20260926T140000Z
DTSTAMP:20260425T185240Z
UID:ceb75c03-7dcc-4a92-a2e3-b87bfec3f3aa
CREATED:20260425T185240Z
NAME:Workshop schilderen detoren.net
X-WR-CALNAME:Workshop schilderen
X-ALT-DESC;FMTTYPE=text/html:<a href='/agenda/2026/9/26/workshop-schilderen-108533'>/agenda/2026/9/26/workshop-schilderen-108533</a> || <p>Tijdens deze workshop ga je op zoek naar jouw favoriete stukje van de tuin. Al spelenderwijs onderzoeken we hoe we dit stukje het beste in beeld kunnen brengen door te kijken naar het kader, kleur, licht en donker. Dir alles onder deskundige leiding. Na een gevulde dag met verschillende proef schilderingen en een heerlijke lunch &nbsp;ga je naar huis met een schilderij op doek van jouw stukje Mien Ruys.</p>
DESCRIPTION:<a href='/agenda/2026/9/26/workshop-schilderen-108533'>/agenda/2026/9/26/workshop-schilderen-108533</a> || <p>Tijdens deze workshop ga je op zoek naar jouw favoriete stukje van de tuin. Al spelenderwijs onderzoeken we hoe we dit stukje het beste in beeld kunnen brengen door te kijken naar het kader, kleur, licht en donker. Dir alles onder deskundige leiding. Na een gevulde dag met verschillende proef schilderingen en een heerlijke lunch &nbsp;ga je naar huis met een schilderij op doek van jouw stukje Mien Ruys.</p>
LAST-MODIFIED:20260425T185240Z
LOCATION: Tuinen Mien Ruys | Moerheimstraat 84 Dedemsvaart
SEQUENCE:0
STATUS:CONFIRMED
SUMMARY:Workshop schilderen
TRANSP:OPAQUE
END:VEVENT
END:VCALENDAR
