BEGIN:VCALENDAR
PRODID:-//PUBBLE//agenda//NL
VERSION:2.0
METHOD:PUBLISH
BEGIN:VEVENT
DTSTART:20260714T070000Z
DTEND:20260717T110000Z
DTSTAMP:20260425T185411Z
UID:b07a6c2f-9a1b-4eea-81f6-bb128ec098b3
CREATED:20260425T185411Z
NAME:Fietsvierdaagse 2026 detoren.net
X-WR-CALNAME:Fietsvierdaagse 2026
X-ALT-DESC;FMTTYPE=text/html:<a href='/agenda/2026/7/14/fietsvierdaagse-2026-108531'>/agenda/2026/7/14/fietsvierdaagse-2026-108531</a> || <p>Deze 43 ste editie wordt gehouden van 14 juli t/m 17 juli. Fiets mee met vrienden en familie en laat je door de mooiste landschappen leiden met onze volledig uitgezette routes.</p><p>Onderweg heerlijk fietsen door de bossen en langs het water, genieten van al het moois wat Hardenberg en omstreken ons te bieden heeft. Er zijn weer prachtige rustplekken te vinden op authentieke locaties waar er bijgetankt kan worden onder het genot van een hapje en een drankje.</p><p>Mis het niet en kom samen fietsen in ons mooie Vechtdal!</p>
DESCRIPTION:<a href='/agenda/2026/7/14/fietsvierdaagse-2026-108531'>/agenda/2026/7/14/fietsvierdaagse-2026-108531</a> || <p>Deze 43 ste editie wordt gehouden van 14 juli t/m 17 juli. Fiets mee met vrienden en familie en laat je door de mooiste landschappen leiden met onze volledig uitgezette routes.</p><p>Onderweg heerlijk fietsen door de bossen en langs het water, genieten van al het moois wat Hardenberg en omstreken ons te bieden heeft. Er zijn weer prachtige rustplekken te vinden op authentieke locaties waar er bijgetankt kan worden onder het genot van een hapje en een drankje.</p><p>Mis het niet en kom samen fietsen in ons mooie Vechtdal!</p>
LAST-MODIFIED:20260425T185411Z
LOCATION: Kantine Jeu de Boule | De Boshoek 4 Hardenberg
SEQUENCE:0
STATUS:CONFIRMED
SUMMARY:Fietsvierdaagse 2026
TRANSP:OPAQUE
END:VEVENT
END:VCALENDAR
