BEGIN:VCALENDAR
PRODID:-//PUBBLE//agenda//NL
VERSION:2.0
METHOD:PUBLISH
BEGIN:VEVENT
DTSTART:20260822T063000Z
DTEND:20260822T080000Z
DTSTAMP:20260425T190148Z
UID:824dfed9-1a28-4a63-8ee6-0d59ca411e91
CREATED:20260425T190148Z
NAME:Grens Heuvelen Classic 2026 detoren.net
X-WR-CALNAME:Grens Heuvelen Classic 2026
X-ALT-DESC;FMTTYPE=text/html:<a href='/agenda/2026/8/22/grens-heuvelen-classic-2026-108530'>/agenda/2026/8/22/grens-heuvelen-classic-2026-108530</a> || <p>Beleef een onvergetelijke fietsdag tijdens de Grens Heuvelen Classic 2026! Op zaterdag 22 augustus verwelkomen we je aan de Sportboulevard in Hardenberg, voor de start en finish. Onderweg fiets je door een prachtig decor van bosrijke gebieden, uitgestrekte landschappen en sfeervolle dorpjes.&nbsp;</p><p>De Grens Heuvelen Classic staat bekend om haar uitstekende organisatie.&nbsp;</p><p>Er zijn twee afstanden:&nbsp;</p><p>90 km die volledig gepijld is</p><p>145 km, deze alleen op GPX&nbsp;</p><p>Na de finish is het tijd om na te genieten. Trakteer jezelf op een heerlijk broodje hamburger, wissel ervaringen uit met andere fietsfanaten en kijk terug op een dag vol sport, natuur en gezelligheid.&nbsp;</p>
DESCRIPTION:<a href='/agenda/2026/8/22/grens-heuvelen-classic-2026-108530'>/agenda/2026/8/22/grens-heuvelen-classic-2026-108530</a> || <p>Beleef een onvergetelijke fietsdag tijdens de Grens Heuvelen Classic 2026! Op zaterdag 22 augustus verwelkomen we je aan de Sportboulevard in Hardenberg, voor de start en finish. Onderweg fiets je door een prachtig decor van bosrijke gebieden, uitgestrekte landschappen en sfeervolle dorpjes.&nbsp;</p><p>De Grens Heuvelen Classic staat bekend om haar uitstekende organisatie.&nbsp;</p><p>Er zijn twee afstanden:&nbsp;</p><p>90 km die volledig gepijld is</p><p>145 km, deze alleen op GPX&nbsp;</p><p>Na de finish is het tijd om na te genieten. Trakteer jezelf op een heerlijk broodje hamburger, wissel ervaringen uit met andere fietsfanaten en kijk terug op een dag vol sport, natuur en gezelligheid.&nbsp;</p>
LAST-MODIFIED:20260425T190148Z
LOCATION: Sportboulevard Hardenberg | Sportboulevard 3 Hardenberg
SEQUENCE:0
STATUS:CONFIRMED
SUMMARY:Grens Heuvelen Classic 2026
TRANSP:OPAQUE
END:VEVENT
END:VCALENDAR
