BEGIN:VCALENDAR
PRODID:-//PUBBLE//agenda//NL
VERSION:2.0
METHOD:PUBLISH
BEGIN:VEVENT
DTSTART:20260523T080000Z
DTEND:20260523T140000Z
DTSTAMP:20260425T185223Z
UID:ee10a00a-2115-42a4-8e29-ee4045679a7a
CREATED:20260425T185223Z
NAME:Workshop Botanisch Tekenen detoren.net
X-WR-CALNAME:Workshop Botanisch Tekenen
X-ALT-DESC;FMTTYPE=text/html:<a href='/agenda/2026/5/23/workshop-botanisch-tekenen-108348'>/agenda/2026/5/23/workshop-botanisch-tekenen-108348</a> || <p>Tijdens deze workshop maak je kennis met het botanisch tekenen. We tekenen de bloem of het blad op ware grootte en letten daarbij op botanische kenmerken, op vorm, licht en schaduw, compositie en kleur. Je krijgt informatie over te gebruiken materialen zoals papiersoorten en goede kleurpotloden.De workshop wordt gegeven door Monique Lefferts, werkend lid en docent van de Vereniging Botanisch Kunstenaars Nederland. Meer informatie over de VBKN en Monique Lefferts is te vinden op: www.botanischkunstenaarsnederland.nl.</p><p>Minimaal 8, maximaal 14 deelnemers.</p><p>Voor meer info en aanmelden: zie de site www.tuinenmienruys.nl</p>
DESCRIPTION:<a href='/agenda/2026/5/23/workshop-botanisch-tekenen-108348'>/agenda/2026/5/23/workshop-botanisch-tekenen-108348</a> || <p>Tijdens deze workshop maak je kennis met het botanisch tekenen. We tekenen de bloem of het blad op ware grootte en letten daarbij op botanische kenmerken, op vorm, licht en schaduw, compositie en kleur. Je krijgt informatie over te gebruiken materialen zoals papiersoorten en goede kleurpotloden.De workshop wordt gegeven door Monique Lefferts, werkend lid en docent van de Vereniging Botanisch Kunstenaars Nederland. Meer informatie over de VBKN en Monique Lefferts is te vinden op: www.botanischkunstenaarsnederland.nl.</p><p>Minimaal 8, maximaal 14 deelnemers.</p><p>Voor meer info en aanmelden: zie de site www.tuinenmienruys.nl</p>
LAST-MODIFIED:20260425T185223Z
LOCATION: Tuinen Mien Ruys | Moerheimstraat 84 Dedemsvaart
SEQUENCE:0
STATUS:CONFIRMED
SUMMARY:Workshop Botanisch Tekenen
TRANSP:OPAQUE
END:VEVENT
END:VCALENDAR
