BEGIN:VCALENDAR
PRODID:-//PUBBLE//agenda//NL
VERSION:2.0
METHOD:PUBLISH
BEGIN:VEVENT
DTSTART:20260523T120000Z
DTEND:20260523T215900Z
DTSTAMP:20260425T190219Z
UID:ab1820bd-acdb-44c8-ba47-146548d5e7e0
CREATED:20260425T190219Z
NAME:Hapjes Dag Foodtruckfestival detoren.net
X-WR-CALNAME:Hapjes Dag Foodtruckfestival
X-ALT-DESC;FMTTYPE=text/html:<a href='/agenda/2026/5/23/hapjes-dag-foodtruckfestival-107630'>/agenda/2026/5/23/hapjes-dag-foodtruckfestival-107630</a> || <p>Op zaterdag 23 en zondag 24 mei 2026 bruist Dedemsvaart opnieuw tijdens de zesde editie van Hapjes Dag, het leukste Foodtruckfestival tijdens Pinksteren! &nbsp;Twee dagen vol culinaire beleving, muziek, kinderplezier en regionale artiesten.&nbsp;</p><p>’s Avonds barst het feest los met op zaterdag Disco Dance Department, de beste disco-coverband, en op zondag De Bolle Jan Show, de gezelligste meezingshow van Nederland!&nbsp;</p><p>Het historische terrein van streekmuseum De Kalkovens vormt wederom het sfeervolle decor voor</p><p>Ticket &amp; info: www.hapjesdag.nl</p>
DESCRIPTION:<a href='/agenda/2026/5/23/hapjes-dag-foodtruckfestival-107630'>/agenda/2026/5/23/hapjes-dag-foodtruckfestival-107630</a> || <p>Op zaterdag 23 en zondag 24 mei 2026 bruist Dedemsvaart opnieuw tijdens de zesde editie van Hapjes Dag, het leukste Foodtruckfestival tijdens Pinksteren! &nbsp;Twee dagen vol culinaire beleving, muziek, kinderplezier en regionale artiesten.&nbsp;</p><p>’s Avonds barst het feest los met op zaterdag Disco Dance Department, de beste disco-coverband, en op zondag De Bolle Jan Show, de gezelligste meezingshow van Nederland!&nbsp;</p><p>Het historische terrein van streekmuseum De Kalkovens vormt wederom het sfeervolle decor voor</p><p>Ticket &amp; info: www.hapjesdag.nl</p>
LAST-MODIFIED:20260425T190219Z
LOCATION: Streekmuseum ‘Kalkovens’ | Oude Zuidwolderstraat 13 13 Dedemsvaart
SEQUENCE:0
STATUS:CONFIRMED
SUMMARY:Hapjes Dag Foodtruckfestival
TRANSP:OPAQUE
END:VEVENT
END:VCALENDAR
