BEGIN:VCALENDAR
PRODID:-//PUBBLE//agenda//NL
VERSION:2.0
METHOD:PUBLISH
BEGIN:VEVENT
DTSTART:20261025T120000Z
DTEND:20261025T133000Z
DTSTAMP:20260425T171421Z
UID:b3d367ef-c3df-435c-bb04-881198b43246
CREATED:20260425T171421Z
NAME:Rondwandeling met gids in Ommerschans detoren.net
X-WR-CALNAME:Rondwandeling met gids in Ommerschans
X-ALT-DESC;FMTTYPE=text/html:<a href='/agenda/2026/10/25/rondwandeling-met-gids-in-ommerschans-107554'>/agenda/2026/10/25/rondwandeling-met-gids-in-ommerschans-107554</a> || <p>In de anderhalve durende wandeling vertelt de gids over de geschiedenis van het unieke gebied. Met onder meer verhalen over het zwaard van Ommerschans (dat te zien is in het Rijksmuseum van Oudheden te Leiden), de muiterij op de schans, de overval door de patriotten. Ook wordt er veel aandacht besteed aan de ruim 700 ha grote straf-en bedelaarskolonie Ommerschans. Je hoort niet alleen de historische feiten, maar ook verhalen over de bewoners en de dagelijkse gang van zaken op de kolonie. De gids vertelt ook over de geschiedenis van CTP Veldzicht in Balkbrug die zijn oorsprong vindt in de kolonie Ommerschans. Hoor hoe het dorp Balkbrug onlosmakelijk verbonden is met Ommerschans. Vooraf aanmelden via info@ommerschans.nl. Start bij het kanon.</p>
DESCRIPTION:<a href='/agenda/2026/10/25/rondwandeling-met-gids-in-ommerschans-107554'>/agenda/2026/10/25/rondwandeling-met-gids-in-ommerschans-107554</a> || <p>In de anderhalve durende wandeling vertelt de gids over de geschiedenis van het unieke gebied. Met onder meer verhalen over het zwaard van Ommerschans (dat te zien is in het Rijksmuseum van Oudheden te Leiden), de muiterij op de schans, de overval door de patriotten. Ook wordt er veel aandacht besteed aan de ruim 700 ha grote straf-en bedelaarskolonie Ommerschans. Je hoort niet alleen de historische feiten, maar ook verhalen over de bewoners en de dagelijkse gang van zaken op de kolonie. De gids vertelt ook over de geschiedenis van CTP Veldzicht in Balkbrug die zijn oorsprong vindt in de kolonie Ommerschans. Hoor hoe het dorp Balkbrug onlosmakelijk verbonden is met Ommerschans. Vooraf aanmelden via info@ommerschans.nl. Start bij het kanon.</p>
LAST-MODIFIED:20260425T171421Z
LOCATION: Ommerschans, bij het kanon naast de schanswal | Balkerweg 80 Vinkenbuurt
SEQUENCE:0
STATUS:CONFIRMED
SUMMARY:Rondwandeling met gids in Ommerschans
TRANSP:OPAQUE
END:VEVENT
END:VCALENDAR
