BEGIN:VCALENDAR
PRODID:-//PUBBLE//agenda//NL
VERSION:2.0
METHOD:PUBLISH
BEGIN:VEVENT
DTSTART:20251221T130000Z
DTEND:20251221T150000Z
DTSTAMP:20260422T102611Z
UID:cf84b06d-a8b6-4fc7-808c-a84adca4ccc7
CREATED:20260422T102611Z
NAME:CAMERATA DELFT MET SOPRAAN WENDY ROOBOL – Love came down at Christmas detoren.net
X-WR-CALNAME:CAMERATA DELFT MET SOPRAAN WENDY ROOBOL – Love came down at Christmas
X-ALT-DESC;FMTTYPE=text/html:<a href='/agenda/2025/12/21/camerata-delft-met-sopraan-wendy-roobol-love-came-down-at-christmas-102252'>/agenda/2025/12/21/camerata-delft-met-sopraan-wendy-roobol-love-came-down-at-christmas-102252</a> || <p>Kamermuziekensemble Camerata Delft en sopraan Wendy Roobol nodigen u uit voor een hartverwarmend, inspirerend Kerstconcert. Vol muziek, verhalen en gedichten.</p><p>Onder het motto ‘nieuw geluid in oude muziek’ wordt ernstige en devote muziek ten gehore gebracht, maar ook blije kerstliedjes uit meerdere windstreken en virtuoze instrumentale intermezzo’s.</p><p>Centraal staat kerst- en liefdesmuziek uit de Duitse, Franse en Italiaanse barok. Composities van Biber, Händel, Monteclair, Corelli en Cozzolani worden afgewisseld met verhalen, gedichten en wat meer onbekende kerstmuziek.</p><p>In de donkere wintermaanden zorgt deze liefdevolle ode aan de ‘peaceful winter night’ voor een warm Kerstgevoel. En om het gevoel van saamhorigheid extra te versterken, wordt het publiek uitgenodigd om mee te zingen.</p><p>Dit mooie Kerstconcert wordt uitgevoerd in de sfeervolle ambiance van de Reestkerk in Oud Avereest.</p><p>Informatie en kaartverkoop www.skoaconcerten.nl.</p>
DESCRIPTION:<a href='/agenda/2025/12/21/camerata-delft-met-sopraan-wendy-roobol-love-came-down-at-christmas-102252'>/agenda/2025/12/21/camerata-delft-met-sopraan-wendy-roobol-love-came-down-at-christmas-102252</a> || <p>Kamermuziekensemble Camerata Delft en sopraan Wendy Roobol nodigen u uit voor een hartverwarmend, inspirerend Kerstconcert. Vol muziek, verhalen en gedichten.</p><p>Onder het motto ‘nieuw geluid in oude muziek’ wordt ernstige en devote muziek ten gehore gebracht, maar ook blije kerstliedjes uit meerdere windstreken en virtuoze instrumentale intermezzo’s.</p><p>Centraal staat kerst- en liefdesmuziek uit de Duitse, Franse en Italiaanse barok. Composities van Biber, Händel, Monteclair, Corelli en Cozzolani worden afgewisseld met verhalen, gedichten en wat meer onbekende kerstmuziek.</p><p>In de donkere wintermaanden zorgt deze liefdevolle ode aan de ‘peaceful winter night’ voor een warm Kerstgevoel. En om het gevoel van saamhorigheid extra te versterken, wordt het publiek uitgenodigd om mee te zingen.</p><p>Dit mooie Kerstconcert wordt uitgevoerd in de sfeervolle ambiance van de Reestkerk in Oud Avereest.</p><p>Informatie en kaartverkoop www.skoaconcerten.nl.</p>
LAST-MODIFIED:20260422T102611Z
LOCATION: Reestkerk (SKOA Concerten) | Oud Avereest 5 Balkbrug
SEQUENCE:0
STATUS:CONFIRMED
SUMMARY:CAMERATA DELFT MET SOPRAAN WENDY ROOBOL – Love came down at Christmas
TRANSP:OPAQUE
END:VEVENT
END:VCALENDAR
